BEGIN:VCALENDAR
VERSION:2.0
PRODID:-//Islanninkoirat - ECPv6.15.20//NONSGML v1.0//EN
CALSCALE:GREGORIAN
METHOD:PUBLISH
X-ORIGINAL-URL:https://islanninkoirat.fi
X-WR-CALDESC:Events for Islanninkoirat
REFRESH-INTERVAL;VALUE=DURATION:PT1H
X-Robots-Tag:noindex
X-PUBLISHED-TTL:PT1H
BEGIN:VTIMEZONE
TZID:Europe/Helsinki
BEGIN:DAYLIGHT
TZOFFSETFROM:+0200
TZOFFSETTO:+0300
TZNAME:EEST
DTSTART:20250330T010000
END:DAYLIGHT
BEGIN:STANDARD
TZOFFSETFROM:+0300
TZOFFSETTO:+0200
TZNAME:EET
DTSTART:20251026T010000
END:STANDARD
BEGIN:DAYLIGHT
TZOFFSETFROM:+0200
TZOFFSETTO:+0300
TZNAME:EEST
DTSTART:20260329T010000
END:DAYLIGHT
BEGIN:STANDARD
TZOFFSETFROM:+0300
TZOFFSETTO:+0200
TZNAME:EET
DTSTART:20261025T010000
END:STANDARD
BEGIN:DAYLIGHT
TZOFFSETFROM:+0200
TZOFFSETTO:+0300
TZNAME:EEST
DTSTART:20270328T010000
END:DAYLIGHT
BEGIN:STANDARD
TZOFFSETFROM:+0300
TZOFFSETTO:+0200
TZNAME:EET
DTSTART:20271031T010000
END:STANDARD
END:VTIMEZONE
BEGIN:VEVENT
DTSTART;VALUE=DATE:20260516
DTEND;VALUE=DATE:20260518
DTSTAMP:20260422T192211
CREATED:20260108T104227Z
LAST-MODIFIED:20260108T104227Z
UID:5530-1778889600-1779062399@islanninkoirat.fi
SUMMARY:Paimennuskokeet ja esikoe Karstulassa 16.-17.5.2026
DESCRIPTION:Islanninkoirat ry järjestää paimennuksen koeluokat ja esikokeen kahtena päivänä Karstulassa Ojalan tilalla 16. ja 17.5.2026 \nTuomari: Tuula Taponen \nIlmoittautumiset: kirsiasi@dnainternet.net \nIlmoittautuminen islanninkoirat ry jäsenten islanninlammaskoirille 1.4.2026 kello 8.00 alkaen ja muille\n20.4.2026 kello 8.00 alkaen. Ilmoittautuminen ensin sähköpostilla ja toimi sitten annettujen ohjeiden\nmukaan. Hinta jäsenille 60€ ja muille 80€.
URL:https://islanninkoirat.fi/tapahtuma/paimennuskokeet-ja-esikoe-karstulassa-16-17-5-2026/
END:VEVENT
BEGIN:VEVENT
DTSTART;VALUE=DATE:20260605
DTEND;VALUE=DATE:20260606
DTSTAMP:20260422T192211
CREATED:20260108T104446Z
LAST-MODIFIED:20260108T104446Z
UID:5532-1780617600-1780703999@islanninkoirat.fi
SUMMARY:Paimennustaipumustesti Kerimäellä 5.6.2026
DESCRIPTION:Islanninkoirat ry järjestää paimennuksen taipumustestin Kerimäellä Pohjolan Ahvenanmaanlammastilalla perjantaina 5.6.2026. Testi on olosuhteiden salliessa tarkoitus järjestää iltatestinä. \nTuomari: Tiina Ahonen \nilmoittautumiset: riika.kivirinta@gmail.com \nIlmoittautuminen islanninkoirat ry jäsenten islanninlammaskoirille 13.4.2026 kello 8.00 alkaen ja muille 22.4.2026 kello 8.00 alkaen. Ilmoittautuminen ensin sähköpostilla ja toimi sitten annettujen ohjeiden mukaan. Hinta jäsenille 50€ ja muille 57€.
URL:https://islanninkoirat.fi/tapahtuma/paimennustaipumustesti-kerimaella-5-6-2026/
END:VEVENT
BEGIN:VEVENT
DTSTART;VALUE=DATE:20260606
DTEND;VALUE=DATE:20260607
DTSTAMP:20260422T192211
CREATED:20260302T130223Z
LAST-MODIFIED:20260302T132947Z
UID:5593-1780704000-1780790399@islanninkoirat.fi
SUMMARY:Erikoisnäyttely 6.6.2026
DESCRIPTION:
URL:https://islanninkoirat.fi/tapahtuma/erikoisnayttely-6-6-2026/
END:VEVENT
BEGIN:VEVENT
DTSTART;VALUE=DATE:20260607
DTEND;VALUE=DATE:20260608
DTSTAMP:20260422T192211
CREATED:20260108T104658Z
LAST-MODIFIED:20260108T104658Z
UID:5534-1780790400-1780876799@islanninkoirat.fi
SUMMARY:Paimennuksen rotumestaruudet Kerimäellä 7.6.2026
DESCRIPTION:Islanninkoirat ry järjestää paimennuksen koeluokat ja esikokeen Kerimäellä Pohjolan Ahvenanmaanlammastilalla sunnuntaina 7.6.2026. Koe on samalla islanninlammaskoirien rotumestaruuskoe. Rotumestaruudet jaetaan varsinaisissa koeluokissa. \nTuomari: Tiina Ahonen \nilmoittautumiset: riika.kivirinta@gmail.com \nIlmoittautuminen islanninkoirat ry jäsenten islanninlammaskoirille 12.4.2026 kello 8.00 alkaen ja muille 22.4.2026 kello 8.00 alkaen. Ilmoittautuminen ensin sähköpostilla ja toimi sitten annettujen ohjeiden mukaan. Hinta jäsenille 60€ ja muille 75€.
URL:https://islanninkoirat.fi/tapahtuma/paimennuksen-rotumestaruudet-kerimaella-7-6-2026/
END:VEVENT
END:VCALENDAR